BEGIN:VCALENDAR
VERSION:2.0
PRODID:-//SwissLUG - ECPv6.15.18//NONSGML v1.0//EN
CALSCALE:GREGORIAN
METHOD:PUBLISH
X-WR-CALNAME:SwissLUG
X-ORIGINAL-URL:https://www.swisslug.ch
X-WR-CALDESC:Veranstaltungen für SwissLUG
REFRESH-INTERVAL;VALUE=DURATION:PT1H
X-Robots-Tag:noindex
X-PUBLISHED-TTL:PT1H
BEGIN:VTIMEZONE
TZID:Europe/Zurich
BEGIN:DAYLIGHT
TZOFFSETFROM:+0100
TZOFFSETTO:+0200
TZNAME:CEST
DTSTART:20250330T010000
END:DAYLIGHT
BEGIN:STANDARD
TZOFFSETFROM:+0200
TZOFFSETTO:+0100
TZNAME:CET
DTSTART:20251026T010000
END:STANDARD
BEGIN:DAYLIGHT
TZOFFSETFROM:+0100
TZOFFSETTO:+0200
TZNAME:CEST
DTSTART:20260329T010000
END:DAYLIGHT
BEGIN:STANDARD
TZOFFSETFROM:+0200
TZOFFSETTO:+0100
TZNAME:CET
DTSTART:20261025T010000
END:STANDARD
BEGIN:DAYLIGHT
TZOFFSETFROM:+0100
TZOFFSETTO:+0200
TZNAME:CEST
DTSTART:20270328T010000
END:DAYLIGHT
BEGIN:STANDARD
TZOFFSETFROM:+0200
TZOFFSETTO:+0100
TZNAME:CET
DTSTART:20271031T010000
END:STANDARD
END:VTIMEZONE
BEGIN:VEVENT
DTSTART;VALUE=DATE:20260418
DTEND;VALUE=DATE:20260420
DTSTAMP:20260419T201240
CREATED:20250703T072706Z
LAST-MODIFIED:20251005T075459Z
UID:10227-1776470400-1776643199@www.swisslug.ch
SUMMARY:SteinCHenwelt 2026 in Chur
DESCRIPTION:Besuchen Sie die faszinierende LEGOAusstellung. Erleben Sie beeindruckende Kreationen und Bauwerke\, die von leidenschaftlichen LEGOFans aus der ganzen Schweiz\, Deutschland\, Italien\, Österreich und Frankreich geschaffen wurden. Lassen Sie sich inspirieren und entdecken Sie die kreativen Möglichkeiten\, die LEGOSteine bieten.
URL:https://www.swisslug.ch/event/steinchenwelt-2026/
LOCATION:Stadthalle Chur\, Weststrasse 5\, 7000 Chur\, GR\, 7000
CATEGORIES:Ausstellungen
ORGANIZER;CN="SteinCHenwelt Gmbh":MAILTO:mail@steinchenwelt.ch
END:VEVENT
END:VCALENDAR