BEGIN:VCALENDAR
VERSION:2.0
PRODID:-//SwissLUG - ECPv6.15.18//NONSGML v1.0//EN
CALSCALE:GREGORIAN
METHOD:PUBLISH
X-WR-CALNAME:SwissLUG
X-ORIGINAL-URL:https://www.swisslug.ch
X-WR-CALDESC:Veranstaltungen für SwissLUG
REFRESH-INTERVAL;VALUE=DURATION:PT1H
X-Robots-Tag:noindex
X-PUBLISHED-TTL:PT1H
BEGIN:VTIMEZONE
TZID:Europe/Zurich
BEGIN:DAYLIGHT
TZOFFSETFROM:+0100
TZOFFSETTO:+0200
TZNAME:CEST
DTSTART:20240331T010000
END:DAYLIGHT
BEGIN:STANDARD
TZOFFSETFROM:+0200
TZOFFSETTO:+0100
TZNAME:CET
DTSTART:20241027T010000
END:STANDARD
BEGIN:DAYLIGHT
TZOFFSETFROM:+0100
TZOFFSETTO:+0200
TZNAME:CEST
DTSTART:20250330T010000
END:DAYLIGHT
BEGIN:STANDARD
TZOFFSETFROM:+0200
TZOFFSETTO:+0100
TZNAME:CET
DTSTART:20251026T010000
END:STANDARD
BEGIN:DAYLIGHT
TZOFFSETFROM:+0100
TZOFFSETTO:+0200
TZNAME:CEST
DTSTART:20260329T010000
END:DAYLIGHT
BEGIN:STANDARD
TZOFFSETFROM:+0200
TZOFFSETTO:+0100
TZNAME:CET
DTSTART:20261025T010000
END:STANDARD
END:VTIMEZONE
BEGIN:VEVENT
DTSTART;VALUE=DATE:20250426
DTEND;VALUE=DATE:20250428
DTSTAMP:20260423T060919
CREATED:20240906T155425Z
LAST-MODIFIED:20240906T155425Z
UID:9762-1745625600-1745798399@www.swisslug.ch
SUMMARY:Brique Valais\, Fully (VS) 2025
DESCRIPTION:Brique Valais ist die Walliser LEGO® Ausstellung für kleine und große Fans der bunten Steine.\nDie Ausstellung bietet nicht nur was für’s Auge\, sondern es gibt Animationen\, einen Kreativbereich\, Verkaufsstände und im Freien einige kleine\, aber feine Imbissbuden. \nMit dem Ziel des Teilen und Entdecken\, bietet Brique Valais eine familienfreundliche Ausstellung\, die für alle erschwinglich ist.\nDer Eintritt wird zu einem günstigen Preis von CHF 5. pro Person ab 16 Jahren angeboten (für jüngere Kinder ist der Eintritt gratis).
URL:https://www.swisslug.ch/event/brique-valais-fully-vs-2025/
LOCATION:Salle polyvalente „La châtaigne“\, Fully (VS)\, Rue des Sports 3\, Fully\, VS\, 1926\, Schweiz
CATEGORIES:Ausstellungen
ATTACH;FMTTYPE=image/jpeg:https://www.swisslug.ch/wp-content/uploads/2024/09/IMG_1605.jpg
END:VEVENT
END:VCALENDAR