BEGIN:VCALENDAR
VERSION:2.0
PRODID:-//SwissLUG - ECPv6.15.18//NONSGML v1.0//EN
CALSCALE:GREGORIAN
METHOD:PUBLISH
X-WR-CALNAME:SwissLUG
X-ORIGINAL-URL:https://www.swisslug.ch
X-WR-CALDESC:Veranstaltungen für SwissLUG
REFRESH-INTERVAL;VALUE=DURATION:PT1H
X-Robots-Tag:noindex
X-PUBLISHED-TTL:PT1H
BEGIN:VTIMEZONE
TZID:UTC
BEGIN:STANDARD
TZOFFSETFROM:+0000
TZOFFSETTO:+0000
TZNAME:UTC
DTSTART:20250101T000000
END:STANDARD
END:VTIMEZONE
BEGIN:VEVENT
DTSTART;TZID=UTC:20261105T180000
DTEND;TZID=UTC:20261105T230000
DTSTAMP:20260424T011844
CREATED:20241015T132926Z
LAST-MODIFIED:20251105T193447Z
UID:9803-1793901600-1793919600@www.swisslug.ch
SUMMARY:SwissLUG Stammtisch Ostschweiz
DESCRIPTION:SwissLUG Vereinsmitglieder treffen sich monatlich (immer am 1. Donnerstag im Monat)\, ab 18:00 Uhr im Restaurant Löwen\, in Wiesendangen bei Winterthur. \nWir diskutieren über LEGO Neuheiten\, verkaufen untereinander Steine oder ganze Sets\, zeigen neue Errungenschaften oder selbstgebaute MOC’s und bauen teilweise auch Modelle vor Ort zusammen.\nDer Stammtisch steht allen LEGO Interessierten offen. Auch nicht Mitglieder\, Bekannte und Freunde\, die selber mit den bunten LEGO Steinen spielen und bauen sind herzlich willkommen. \nFür das Leibliche Wohl bietet das Restaurant Löwen eine vielseitige Speisekarte.\nWir freuen uns über jeden der Lust hat hineinzuschauen.
URL:https://www.swisslug.ch/event/swisslug-stammtisch-ostschweiz-15/
LOCATION:Gasthaus zum Löwen\, Wiesendangen\, Dorfstrasse 49\, Wiesendangen\, 8542\, Schweiz
CATEGORIES:Stammtische
ATTACH;FMTTYPE=image/png:https://www.swisslug.ch/wp-content/uploads/2023/10/Ostschweiz-Gasthaus-zum-Loewen-Wiesendangen.png
ORGANIZER;CN="SwissLUG":MAILTO:info@swisslug.ch
END:VEVENT
END:VCALENDAR