BEGIN:VCALENDAR
VERSION:2.0
PRODID:-//SwissLUG - ECPv6.15.18//NONSGML v1.0//EN
CALSCALE:GREGORIAN
METHOD:PUBLISH
X-WR-CALNAME:SwissLUG
X-ORIGINAL-URL:https://www.swisslug.ch
X-WR-CALDESC:Veranstaltungen für SwissLUG
REFRESH-INTERVAL;VALUE=DURATION:PT1H
X-Robots-Tag:noindex
X-PUBLISHED-TTL:PT1H
BEGIN:VTIMEZONE
TZID:UTC
BEGIN:STANDARD
TZOFFSETFROM:+0000
TZOFFSETTO:+0000
TZNAME:UTC
DTSTART:20240101T000000
END:STANDARD
END:VTIMEZONE
BEGIN:VEVENT
DTSTART;TZID=UTC:20251204T180000
DTEND;TZID=UTC:20251204T233000
DTSTAMP:20260423T193417
CREATED:20241015T133303Z
LAST-MODIFIED:20241015T133303Z
UID:9813-1764871200-1764891000@www.swisslug.ch
SUMMARY:SwissLUG Stammtisch Ostschweiz
DESCRIPTION:SwissLUG Vereinsmitglieder treffen sich monatlich (immer am 1. Donnerstag im Monat)\, ab 18:00 Uhr im Restaurant Löwen\, in Wiesendangen bei Winterthur. \nWir diskutieren über LEGO Neuheiten\, verkaufen untereinander Steine oder ganze Sets\, zeigen neue Errungenschaften oder selbstgebaute MOC’s und bauen teilweise auch Modelle vor Ort zusammen.\nDer Stammtisch steht allen LEGO Interessierten offen. Auch nicht Mitglieder\, Bekannte und Freunde\, die selber mit den bunten LEGO Steinen spielen und bauen sind herzlich willkommen. \nFür das Leibliche Wohl bietet das Restaurant Löwen eine vielseitige Speisekarte.\nWir freuen uns über jeden der Lust hat hineinzuschauen.
URL:https://www.swisslug.ch/event/swisslug-stammtisch-ostschweiz-20/
LOCATION:Gasthaus zum Löwen\, Wiesendangen\, Dorfstrasse 49\, Wiesendangen\, 8542\, Schweiz
CATEGORIES:Stammtische
ATTACH;FMTTYPE=image/png:https://www.swisslug.ch/wp-content/uploads/2023/10/Ostschweiz-Gasthaus-zum-Loewen-Wiesendangen.png
ORGANIZER;CN="SwissLUG":MAILTO:info@swisslug.ch
END:VEVENT
BEGIN:VEVENT
DTSTART;TZID=UTC:20251206T100000
DTEND;TZID=UTC:20251206T200000
DTSTAMP:20260423T193417
CREATED:20251016T215210Z
LAST-MODIFIED:20251205T164746Z
UID:10464-1765015200-1765051200@www.swisslug.ch
SUMMARY:Zofibricks Shop
DESCRIPTION:Kommen Sie vorbei im Zofibricks Shop an der Vorderen Hauptgasse 102/104 in der schönen Altstadt von Zofingen. \nFinden Sie interessante Lego Sets\, Raritäten und einzelne Legosteine. Es ist sicher auch für Sie etwas dabei. \njetzt als Aussteller anmelden
URL:https://www.swisslug.ch/event/zofibricks-shop/
LOCATION:Zofingen\, Vordere Hauptgasse 102\, 4800 Zofingen\, AG\, 4800\, Switzerland
CATEGORIES:Ausstellungen
ATTACH;FMTTYPE=image/jpeg:https://www.swisslug.ch/wp-content/uploads/2025/10/Zofibricks_Shop_Flyer_1.jpg
END:VEVENT
BEGIN:VEVENT
DTSTART;TZID=UTC:20251207T100000
DTEND;TZID=UTC:20251207T170000
DTSTAMP:20260423T193417
CREATED:20251205T164849Z
LAST-MODIFIED:20251205T164849Z
UID:10512-1765101600-1765126800@www.swisslug.ch
SUMMARY:Zofibricks Shop
DESCRIPTION:Kommen Sie vorbei im Zofibricks Shop an der Vorderen Hauptgasse 102/104 in der schönen Altstadt von Zofingen. \nFinden Sie interessante Lego Sets\, Raritäten und einzelne Legosteine. Es ist sicher auch für Sie etwas dabei. \njetzt als Aussteller anmelden
URL:https://www.swisslug.ch/event/zofibricks-shop-2/
LOCATION:Zofingen\, Vordere Hauptgasse 102\, 4800 Zofingen\, AG\, 4800\, Switzerland
CATEGORIES:Ausstellungen
ATTACH;FMTTYPE=image/jpeg:https://www.swisslug.ch/wp-content/uploads/2025/10/Zofibricks_Shop_Flyer_1.jpg
END:VEVENT
BEGIN:VEVENT
DTSTART;TZID=UTC:20251213T100000
DTEND;TZID=UTC:20251213T160000
DTSTAMP:20260423T193417
CREATED:20251205T165000Z
LAST-MODIFIED:20251205T165000Z
UID:10514-1765620000-1765641600@www.swisslug.ch
SUMMARY:Zofibricks Shop
DESCRIPTION:Kommen Sie vorbei im Zofibricks Shop an der Vorderen Hauptgasse 102/104 in der schönen Altstadt von Zofingen. \nFinden Sie interessante Lego Sets\, Raritäten und einzelne Legosteine. Es ist sicher auch für Sie etwas dabei. \njetzt als Aussteller anmelden
URL:https://www.swisslug.ch/event/zofibricks-shop-3/
LOCATION:Zofingen\, Vordere Hauptgasse 102\, 4800 Zofingen\, AG\, 4800\, Switzerland
CATEGORIES:Ausstellungen
ATTACH;FMTTYPE=image/jpeg:https://www.swisslug.ch/wp-content/uploads/2025/10/Zofibricks_Shop_Flyer_1.jpg
END:VEVENT
BEGIN:VEVENT
DTSTART;TZID=UTC:20251217T180000
DTEND;TZID=UTC:20251217T220000
DTSTAMP:20260423T193417
CREATED:20241204T191649Z
LAST-MODIFIED:20251207T204110Z
UID:9966-1765994400-1766008800@www.swisslug.ch
SUMMARY:SwissLUG Stammtisch Region Bern
DESCRIPTION:Eine lockere Runde SwissLUG Vereinsmitglieder trifft sich einmal monatlich ab 18:00 Uhr im Restaurant Waldeck in Ostermundigen. \nDer Stammtisch steht allen LEGO Interessierten offen. Auch nicht Mitglieder\, Bekannte und Freunde\, die selber mit den bunten LEGO Steinen spielen und bauen sind herzlich willkommen. \nFür das Leibliche Wohl bietet das Restaurant Waldeck eine vielseitige Speisekarte.\nEgal ob Vereinsmitglied oder nicht – alle sind herzlich willkommen.
URL:https://www.swisslug.ch/event/swisslug-stammtisch-region-bern-5/
LOCATION:Restaurant Waldeck\, Ostermundigen\, Bernstrasse 5\, Ostermundigen\, Bern\, 3072
CATEGORIES:Stammtische
ATTACH;FMTTYPE=image/png:https://www.swisslug.ch/wp-content/uploads/2023/10/Bern-Restaurant-Waldeck-Ostermundigen.png
ORGANIZER;CN="SwissLUG":MAILTO:info@swisslug.ch
END:VEVENT
BEGIN:VEVENT
DTSTART;TZID=UTC:20251218T180000
DTEND;TZID=UTC:20251218T230000
DTSTAMP:20260423T193417
CREATED:20241120T194516Z
LAST-MODIFIED:20241120T194516Z
UID:9939-1766080800-1766098800@www.swisslug.ch
SUMMARY:SwissLUG-Stammtisch Sarganserland
DESCRIPTION:Eine lockere Runde SwissLUG Vereinsmitglieder\, trifft sich monatlich (immer am 3. Donnerstag im Monat)\, ab 18:00 Uhr im Restaurant Hotel Post in Sargans.\nFür das Leibliche Wohl bietet das Restaurant im Hotel Post eine sehr vielseitige Speisekarte. \nEgal ob Vereinsmitglied oder nicht – Der Stammtisch steht allen LEGO Interessierten offen.
URL:https://www.swisslug.ch/event/swisslug-stammtisch-sarganserland-23/
LOCATION:Hotel Post Sargans AG\, Sargans\, Bahnhofstrasse 1\, Sargans\, SG\, 7320\, Schweiz
CATEGORIES:Stammtische
ATTACH;FMTTYPE=image/png:https://www.swisslug.ch/wp-content/uploads/2023/12/Hotel-Post-Sargans-e1704869951206.png
ORGANIZER;CN="SwissLUG":MAILTO:info@swisslug.ch
END:VEVENT
BEGIN:VEVENT
DTSTART;TZID=UTC:20251219T140000
DTEND;TZID=UTC:20251219T190000
DTSTAMP:20260423T193417
CREATED:20251205T165113Z
LAST-MODIFIED:20251205T165113Z
UID:10516-1766152800-1766170800@www.swisslug.ch
SUMMARY:Zofibricks Shop
DESCRIPTION:Kommen Sie vorbei im Zofibricks Shop an der Vorderen Hauptgasse 102/104 in der schönen Altstadt von Zofingen. \nFinden Sie interessante Lego Sets\, Raritäten und einzelne Legosteine. Es ist sicher auch für Sie etwas dabei. \njetzt als Aussteller anmelden
URL:https://www.swisslug.ch/event/zofibricks-shop-4/
LOCATION:Zofingen\, Vordere Hauptgasse 102\, 4800 Zofingen\, AG\, 4800\, Switzerland
CATEGORIES:Ausstellungen
ATTACH;FMTTYPE=image/jpeg:https://www.swisslug.ch/wp-content/uploads/2025/10/Zofibricks_Shop_Flyer_1.jpg
END:VEVENT
BEGIN:VEVENT
DTSTART;TZID=UTC:20251220T100000
DTEND;TZID=UTC:20251220T160000
DTSTAMP:20260423T193417
CREATED:20251205T165219Z
LAST-MODIFIED:20251205T165219Z
UID:10518-1766224800-1766246400@www.swisslug.ch
SUMMARY:Zofibricks Shop
DESCRIPTION:Kommen Sie vorbei im Zofibricks Shop an der Vorderen Hauptgasse 102/104 in der schönen Altstadt von Zofingen. \nFinden Sie interessante Lego Sets\, Raritäten und einzelne Legosteine. Es ist sicher auch für Sie etwas dabei. \njetzt als Aussteller anmelden
URL:https://www.swisslug.ch/event/zofibricks-shop-5/
LOCATION:Zofingen\, Vordere Hauptgasse 102\, 4800 Zofingen\, AG\, 4800\, Switzerland
CATEGORIES:Ausstellungen
ATTACH;FMTTYPE=image/jpeg:https://www.swisslug.ch/wp-content/uploads/2025/10/Zofibricks_Shop_Flyer_1.jpg
END:VEVENT
BEGIN:VEVENT
DTSTART;TZID=UTC:20251221T100000
DTEND;TZID=UTC:20251221T170000
DTSTAMP:20260423T193417
CREATED:20251205T165321Z
LAST-MODIFIED:20251205T165321Z
UID:10520-1766311200-1766336400@www.swisslug.ch
SUMMARY:Zofibricks Shop
DESCRIPTION:Kommen Sie vorbei im Zofibricks Shop an der Vorderen Hauptgasse 102/104 in der schönen Altstadt von Zofingen. \nFinden Sie interessante Lego Sets\, Raritäten und einzelne Legosteine. Es ist sicher auch für Sie etwas dabei. \njetzt als Aussteller anmelden
URL:https://www.swisslug.ch/event/zofibricks-shop-6/
LOCATION:Zofingen\, Vordere Hauptgasse 102\, 4800 Zofingen\, AG\, 4800\, Switzerland
CATEGORIES:Ausstellungen
ATTACH;FMTTYPE=image/jpeg:https://www.swisslug.ch/wp-content/uploads/2025/10/Zofibricks_Shop_Flyer_1.jpg
END:VEVENT
BEGIN:VEVENT
DTSTART;TZID=UTC:20251227T100000
DTEND;TZID=UTC:20251227T160000
DTSTAMP:20260423T193417
CREATED:20251205T165425Z
LAST-MODIFIED:20251205T165425Z
UID:10522-1766829600-1766851200@www.swisslug.ch
SUMMARY:Zofibricks Shop
DESCRIPTION:Kommen Sie vorbei im Zofibricks Shop an der Vorderen Hauptgasse 102/104 in der schönen Altstadt von Zofingen. \nFinden Sie interessante Lego Sets\, Raritäten und einzelne Legosteine. Es ist sicher auch für Sie etwas dabei. \njetzt als Aussteller anmelden
URL:https://www.swisslug.ch/event/zofibricks-shop-7/
LOCATION:Zofingen\, Vordere Hauptgasse 102\, 4800 Zofingen\, AG\, 4800\, Switzerland
CATEGORIES:Ausstellungen
ATTACH;FMTTYPE=image/jpeg:https://www.swisslug.ch/wp-content/uploads/2025/10/Zofibricks_Shop_Flyer_1.jpg
END:VEVENT
END:VCALENDAR