BEGIN:VCALENDAR
VERSION:2.0
PRODID:-//SwissLUG - ECPv6.15.18//NONSGML v1.0//EN
CALSCALE:GREGORIAN
METHOD:PUBLISH
X-WR-CALNAME:SwissLUG
X-ORIGINAL-URL:https://www.swisslug.ch
X-WR-CALDESC:Veranstaltungen für SwissLUG
REFRESH-INTERVAL;VALUE=DURATION:PT1H
X-Robots-Tag:noindex
X-PUBLISHED-TTL:PT1H
BEGIN:VTIMEZONE
TZID:UTC
BEGIN:STANDARD
TZOFFSETFROM:+0000
TZOFFSETTO:+0000
TZNAME:UTC
DTSTART:20250101T000000
END:STANDARD
END:VTIMEZONE
BEGIN:VEVENT
DTSTART;TZID=UTC:20260205T180000
DTEND;TZID=UTC:20260205T230000
DTSTAMP:20260423T161223
CREATED:20231213T204300Z
LAST-MODIFIED:20251105T192707Z
UID:8685-1770314400-1770332400@www.swisslug.ch
SUMMARY:SwissLUG Stammtisch Ostschweiz
DESCRIPTION:SwissLUG Vereinsmitglieder treffen sich monatlich (immer am 1. Donnerstag im Monat)\, ab 18:00 Uhr im Restaurant Löwen\, in Wiesendangen bei Winterthur. \nWir diskutieren über LEGO Neuheiten\, verkaufen untereinander Steine oder ganze Sets\, zeigen neue Errungenschaften oder selbstgebaute MOC’s und bauen teilweise auch Modelle vor Ort zusammen.\nDer Stammtisch steht allen LEGO Interessierten offen. Auch nicht Mitglieder\, Bekannte und Freunde\, die selber mit den bunten LEGO Steinen spielen und bauen sind herzlich willkommen. \nFür das Leibliche Wohl bietet das Restaurant Löwen eine vielseitige Speisekarte.\nWir freuen uns über jeden der Lust hat hineinzuschauen.
URL:https://www.swisslug.ch/event/swisslug-stammtisch-ostschweiz-9/
LOCATION:Gasthaus zum Löwen\, Wiesendangen\, Dorfstrasse 49\, Wiesendangen\, 8542\, Schweiz
CATEGORIES:Stammtische
ATTACH;FMTTYPE=image/png:https://www.swisslug.ch/wp-content/uploads/2023/10/Ostschweiz-Gasthaus-zum-Loewen-Wiesendangen.png
ORGANIZER;CN="SwissLUG":MAILTO:info@swisslug.ch
END:VEVENT
BEGIN:VEVENT
DTSTART;TZID=UTC:20260219T180000
DTEND;TZID=UTC:20260219T230000
DTSTAMP:20260423T161223
CREATED:20241120T192816Z
LAST-MODIFIED:20251105T194202Z
UID:9919-1771524000-1771542000@www.swisslug.ch
SUMMARY:SwissLUG-Stammtisch Sarganserland
DESCRIPTION:Eine lockere Runde SwissLUG Vereinsmitglieder\, trifft sich monatlich (immer am 3. Donnerstag im Monat)\, ab 18:00 Uhr im Restaurant Hotel Post in Sargans.\nFür das Leibliche Wohl bietet das Restaurant im Hotel Post eine sehr vielseitige Speisekarte. \nEgal ob Vereinsmitglied oder nicht – Der Stammtisch steht allen LEGO Interessierten offen.
URL:https://www.swisslug.ch/event/swisslug-stammtisch-sarganserland-13/
LOCATION:Hotel Post Sargans AG\, Sargans\, Bahnhofstrasse 1\, Sargans\, SG\, 7320\, Schweiz
CATEGORIES:Stammtische
ATTACH;FMTTYPE=image/png:https://www.swisslug.ch/wp-content/uploads/2023/12/Hotel-Post-Sargans-e1704869951206.png
ORGANIZER;CN="SwissLUG":MAILTO:info@swisslug.ch
END:VEVENT
BEGIN:VEVENT
DTSTART;VALUE=DATE:20260221
DTEND;VALUE=DATE:20260222
DTSTAMP:20260423T161223
CREATED:20250910T234923Z
LAST-MODIFIED:20260128T212212Z
UID:10416-1771632000-1771718399@www.swisslug.ch
SUMMARY:Ordentliche Hauptversammlung 2026
DESCRIPTION:Am 21. Februar 2026 um 14.00 findet unsere Ordentliche Hauptversammlung im Gasthof Hirschen\, Watterstrasse 9 in 8105 Regensdorf ZH statt. Wir bitten euch bereits zwischen 13.00-13.45 Uhr anzureisen. Genauere Angaben entnehmt ihr bitte der Einladung der Hauptversammlung. Besten Dank.
URL:https://www.swisslug.ch/event/ordentliche-hauptversammlung-2026/
LOCATION:LU
CATEGORIES:Hauptversammlung,Vereinstreffen
ORGANIZER;CN="SwissLUG":MAILTO:info@swisslug.ch
END:VEVENT
BEGIN:VEVENT
DTSTART;TZID=UTC:20260225T180000
DTEND;TZID=UTC:20260225T220000
DTSTAMP:20260423T161223
CREATED:20231213T210844Z
LAST-MODIFIED:20251010T133430Z
UID:8711-1772042400-1772056800@www.swisslug.ch
SUMMARY:SwissLUG Stammtisch Region Bern
DESCRIPTION:Eine lockere Runde SwissLUG Vereinsmitglieder trifft sich einmal monatlich ab 18:00 Uhr im Restaurant Waldeck in Ostermundigen. \nDer Stammtisch steht allen LEGO Interessierten offen. Auch nicht Mitglieder\, Bekannte und Freunde\, die selber mit den bunten LEGO Steinen spielen und bauen sind herzlich willkommen. \nFür das Leibliche Wohl bietet das Restaurant Waldeck eine vielseitige Speisekarte.\nEgal ob Vereinsmitglied oder nicht – alle sind herzlich willkommen.
URL:https://www.swisslug.ch/event/swisslug-stammtisch-region-bern-10/
LOCATION:Restaurant Waldeck\, Ostermundigen\, Bernstrasse 5\, Ostermundigen\, Bern\, 3072
CATEGORIES:Stammtische
ATTACH;FMTTYPE=image/png:https://www.swisslug.ch/wp-content/uploads/2023/10/Bern-Restaurant-Waldeck-Ostermundigen.png
ORGANIZER;CN="SwissLUG":MAILTO:info@swisslug.ch
END:VEVENT
END:VCALENDAR