BEGIN:VCALENDAR
VERSION:2.0
PRODID:-//SwissLUG - ECPv6.15.18//NONSGML v1.0//EN
CALSCALE:GREGORIAN
METHOD:PUBLISH
X-WR-CALNAME:SwissLUG
X-ORIGINAL-URL:https://www.swisslug.ch
X-WR-CALDESC:Veranstaltungen für SwissLUG
REFRESH-INTERVAL;VALUE=DURATION:PT1H
X-Robots-Tag:noindex
X-PUBLISHED-TTL:PT1H
BEGIN:VTIMEZONE
TZID:UTC
BEGIN:STANDARD
TZOFFSETFROM:+0000
TZOFFSETTO:+0000
TZNAME:UTC
DTSTART:20250101T000000
END:STANDARD
END:VTIMEZONE
BEGIN:VEVENT
DTSTART;TZID=UTC:20261001T180000
DTEND;TZID=UTC:20261001T230000
DTSTAMP:20260423T222525
CREATED:20241015T132838Z
LAST-MODIFIED:20251105T193418Z
UID:9801-1790877600-1790895600@www.swisslug.ch
SUMMARY:SwissLUG Stammtisch Ostschweiz
DESCRIPTION:SwissLUG Vereinsmitglieder treffen sich monatlich (immer am 1. Donnerstag im Monat)\, ab 18:00 Uhr im Restaurant Löwen\, in Wiesendangen bei Winterthur. \nWir diskutieren über LEGO Neuheiten\, verkaufen untereinander Steine oder ganze Sets\, zeigen neue Errungenschaften oder selbstgebaute MOC’s und bauen teilweise auch Modelle vor Ort zusammen.\nDer Stammtisch steht allen LEGO Interessierten offen. Auch nicht Mitglieder\, Bekannte und Freunde\, die selber mit den bunten LEGO Steinen spielen und bauen sind herzlich willkommen. \nFür das Leibliche Wohl bietet das Restaurant Löwen eine vielseitige Speisekarte.\nWir freuen uns über jeden der Lust hat hineinzuschauen.
URL:https://www.swisslug.ch/event/swisslug-stammtisch-ostschweiz-14/
LOCATION:Gasthaus zum Löwen\, Wiesendangen\, Dorfstrasse 49\, Wiesendangen\, 8542\, Schweiz
CATEGORIES:Stammtische
ATTACH;FMTTYPE=image/png:https://www.swisslug.ch/wp-content/uploads/2023/10/Ostschweiz-Gasthaus-zum-Loewen-Wiesendangen.png
ORGANIZER;CN="SwissLUG":MAILTO:info@swisslug.ch
END:VEVENT
BEGIN:VEVENT
DTSTART;TZID=UTC:20261015T180000
DTEND;TZID=UTC:20261015T230000
DTSTAMP:20260423T222525
CREATED:20240110T071028Z
LAST-MODIFIED:20251105T194847Z
UID:8827-1792087200-1792105200@www.swisslug.ch
SUMMARY:SwissLUG-Stammtisch Sarganserland
DESCRIPTION:Eine lockere Runde SwissLUG Vereinsmitglieder\, trifft sich monatlich (immer am 3. Donnerstag im Monat)\, ab 18:00 Uhr im Restaurant Hotel Post in Sargans.\nFür das Leibliche Wohl bietet das Restaurant im Hotel Post eine sehr vielseitige Speisekarte. \nEgal ob Vereinsmitglied oder nicht – Der Stammtisch steht allen LEGO Interessierten offen.
URL:https://www.swisslug.ch/event/swisslug-stammtisch-sarganserland-10/
LOCATION:Hotel Post Sargans AG\, Sargans\, Bahnhofstrasse 1\, Sargans\, SG\, 7320\, Schweiz
CATEGORIES:Stammtische
ATTACH;FMTTYPE=image/png:https://www.swisslug.ch/wp-content/uploads/2023/12/Hotel-Post-Sargans-e1704869951206.png
ORGANIZER;CN="SwissLUG":MAILTO:info@swisslug.ch
END:VEVENT
BEGIN:VEVENT
DTSTART;VALUE=DATE:20261024
DTEND;VALUE=DATE:20261026
DTSTAMP:20260423T222525
CREATED:20250515T180044Z
LAST-MODIFIED:20260202T221611Z
UID:10210-1792800000-1792972799@www.swisslug.ch
SUMMARY:Ticino Brick Bellinzona 2026
DESCRIPTION:Die jährliche Ausstellung der Tessiner LEGO® User Group (SILUG). Die grösste LEGO® Ausstellung im Tessin. \n24. und 25. Oktober 2025\, 10.00-17.00 Uhr\n\nEintritt kostenlos\n\nUm sich als Aussteller anzumelden klicke auf folgenden Link: \nIscriviti a Ticino Brick – SILUG – Swiss Italian LEGO® Users Group
URL:https://www.swisslug.ch/event/ticino-brick-bellinzona-2025/
LOCATION:Mercato Coperto\, Giubiasco\, Viale 1814-1\, 6512 Giubiasco\, TI\, 6512
CATEGORIES:Ausstellungen
ATTACH;FMTTYPE=image/jpeg:https://www.swisslug.ch/wp-content/uploads/2024/07/Silug-Tessin-scaled-e1721306247940.jpg
ORGANIZER;CN="SILUG":MAILTO:info@silug.ch
END:VEVENT
BEGIN:VEVENT
DTSTART;TZID=UTC:20261028T180000
DTEND;TZID=UTC:20261028T220000
DTSTAMP:20260423T222525
CREATED:20241204T192214Z
LAST-MODIFIED:20251010T134001Z
UID:9978-1793210400-1793224800@www.swisslug.ch
SUMMARY:SwissLUG Stammtisch Region Bern
DESCRIPTION:Eine lockere Runde SwissLUG Vereinsmitglieder trifft sich einmal monatlich ab 18:00 Uhr im Restaurant Waldeck in Ostermundigen. \nDer Stammtisch steht allen LEGO Interessierten offen. Auch nicht Mitglieder\, Bekannte und Freunde\, die selber mit den bunten LEGO Steinen spielen und bauen sind herzlich willkommen. \nFür das Leibliche Wohl bietet das Restaurant Waldeck eine vielseitige Speisekarte.\nEgal ob Vereinsmitglied oder nicht – alle sind herzlich willkommen.
URL:https://www.swisslug.ch/event/swisslug-stammtisch-region-bern-16/
LOCATION:Restaurant Waldeck\, Ostermundigen\, Bernstrasse 5\, Ostermundigen\, Bern\, 3072
CATEGORIES:Stammtische
ATTACH;FMTTYPE=image/png:https://www.swisslug.ch/wp-content/uploads/2023/10/Bern-Restaurant-Waldeck-Ostermundigen.png
ORGANIZER;CN="SwissLUG":MAILTO:info@swisslug.ch
END:VEVENT
END:VCALENDAR