BEGIN:VCALENDAR
VERSION:2.0
PRODID:-//SwissLUG - ECPv6.15.18//NONSGML v1.0//EN
CALSCALE:GREGORIAN
METHOD:PUBLISH
X-ORIGINAL-URL:https://www.swisslug.ch
X-WR-CALDESC:Veranstaltungen für SwissLUG
REFRESH-INTERVAL;VALUE=DURATION:PT1H
X-Robots-Tag:noindex
X-PUBLISHED-TTL:PT1H
BEGIN:VTIMEZONE
TZID:UTC
BEGIN:STANDARD
TZOFFSETFROM:+0000
TZOFFSETTO:+0000
TZNAME:UTC
DTSTART:20240101T000000
END:STANDARD
END:VTIMEZONE
BEGIN:VEVENT
DTSTART;VALUE=DATE:20251115
DTEND;VALUE=DATE:20251116
DTSTAMP:20260420T124229
CREATED:20250708T205149Z
LAST-MODIFIED:20250814T201935Z
UID:10309-1763164800-1763251199@www.swisslug.ch
SUMMARY:SwissLUG-Vereinstreffen in Region Olten
DESCRIPTION:SwissLUG-Vereinstreffen in Region Olten \nVorankündigung für Vereinstreffen am 15. November 2025 \nUngefähres Programm: \n\n08.30-11.30 Uhr Führung im KKW Gösgen (ab 12 Jahren)\nMittagessen in Olten\nNachmittag Spiel- und Bauprogramm\, sowie Flyer verteilen in Olten für die Zofibricks\n16.30 Ende\n\nAnmeldung und Details unter https://www.brickerei.com/anmeldung
URL:https://www.swisslug.ch/event/swisslug-vereinstreffen-in-region-olten/
CATEGORIES:Vereinstreffen
ATTACH;FMTTYPE=image/png:https://www.swisslug.ch/wp-content/uploads/2025/07/Flyer-Vereinstreffen-Olten-1-1-scaled.png
END:VEVENT
BEGIN:VEVENT
DTSTART;VALUE=DATE:20251129
DTEND;VALUE=DATE:20251130
DTSTAMP:20260420T124229
CREATED:20250515T184028Z
LAST-MODIFIED:20251016T210303Z
UID:10220-1764374400-1764460799@www.swisslug.ch
SUMMARY:SwissLUG-Vereinstreffen Weihnachtstreffen 2025
DESCRIPTION:SwissLug Weihnachtstreffen 2025 \n29. November 2025 \nProgramm: \n\nGemeinsames Abendessen und spannende Aktivitäten\nZeit ab 13.30 Uhr\nIm Hotel Al Ponte\, Wangenstr. 55\, 3380 Wangen a. d. Aare\nWichtig:\nIm Navi Wagenstr. 55\, 4537 Wiedlisbach eingeben\n\nAnmeldung erforderlich via Mail bis am 08.11.2025
URL:https://www.swisslug.ch/event/swisslug-vereinstreffen-weihnachtstreffen-2025/
LOCATION:Hotel Al Ponte\, Wangenstrasse 55\, 3380 Wangen an der Aare\, BE\, 4537
CATEGORIES:Vereinstreffen
END:VEVENT
END:VCALENDAR