BEGIN:VCALENDAR
VERSION:2.0
PRODID:-//SwissLUG - ECPv6.15.18//NONSGML v1.0//EN
CALSCALE:GREGORIAN
METHOD:PUBLISH
X-ORIGINAL-URL:https://www.swisslug.ch
X-WR-CALDESC:Veranstaltungen für SwissLUG
REFRESH-INTERVAL;VALUE=DURATION:PT1H
X-Robots-Tag:noindex
X-PUBLISHED-TTL:PT1H
BEGIN:VTIMEZONE
TZID:UTC
BEGIN:STANDARD
TZOFFSETFROM:+0000
TZOFFSETTO:+0000
TZNAME:UTC
DTSTART:20240101T000000
END:STANDARD
END:VTIMEZONE
BEGIN:VEVENT
DTSTART;TZID=UTC:20250607T123000
DTEND;TZID=UTC:20250607T220000
DTSTAMP:20260420T183830
CREATED:20250327T204620Z
LAST-MODIFIED:20250327T204620Z
UID:10116-1749299400-1749333600@www.swisslug.ch
SUMMARY:SwissLUG-Vereinstreffen in Villigen und Leibstadt AG
DESCRIPTION:SwissLUG-Vereinstreffen in Villigen und Leibstadt AG \n07. Juni 2025 \nProgramm: \n\nPSI Visitor Center\nCluphaus vom Kernkraftwerk\n\nAnmeldung erforderlich. Anmelden bitte über Discord unter Treffen.
URL:https://www.swisslug.ch/event/swisslug-vereinstreffen-in-villigen-und-leibstadt-ag/
CATEGORIES:Vereinstreffen
END:VEVENT
END:VCALENDAR